Package: RiboProfiling Version: 1.36.0 Command: /Library/Frameworks/R.framework/Resources/bin/R CMD build --keep-empty-dirs --no-resave-data RiboProfiling StartedAt: 2025-02-04 06:40:01 -0500 (Tue, 04 Feb 2025) EndedAt: 2025-02-04 06:43:45 -0500 (Tue, 04 Feb 2025) EllapsedTime: 223.7 seconds RetCode: 0 Status: OK PackageFile: RiboProfiling_1.36.0.tar.gz PackageFileSize: 4.659 MiB