Package: RiboProfiling Version: 1.36.0 Command: rm -rf RiboProfiling.buildbin-libdir && mkdir RiboProfiling.buildbin-libdir && /Users/biocbuild/BBS/utils/build-universal.sh RiboProfiling_1.36.0.tar.gz /Library/Frameworks/R.framework/Resources/bin/R RiboProfiling.buildbin-libdir StartedAt: 2025-02-04 13:59:57 -0500 (Tue, 04 Feb 2025) EndedAt: 2025-02-04 14:02:41 -0500 (Tue, 04 Feb 2025) EllapsedTime: 163.1 seconds RetCode: 0 Status: OK PackageFile: RiboProfiling_1.36.0.tgz PackageFileSize: 4.748 MiB