Package: RiboProfiling Version: 1.36.0 Command: /Library/Frameworks/R.framework/Resources/bin/R CMD INSTALL RiboProfiling StartedAt: 2025-02-03 16:09:42 -0500 (Mon, 03 Feb 2025) EndedAt: 2025-02-03 16:11:28 -0500 (Mon, 03 Feb 2025) EllapsedTime: 105.8 seconds RetCode: 0 Status: OK