Package: RiboProfiling Version: 1.36.0 Command: /home/biocbuild/bbs-3.20-bioc/R/bin/R CMD check --install=check:RiboProfiling.install-out.txt --library=/home/biocbuild/bbs-3.20-bioc/R/site-library --timings RiboProfiling_1.36.0.tar.gz StartedAt: 2025-02-04 01:48:02 -0500 (Tue, 04 Feb 2025) EndedAt: 2025-02-04 01:59:55 -0500 (Tue, 04 Feb 2025) EllapsedTime: 712.8 seconds RetCode: 0 Status: WARNINGS CheckDir: RiboProfiling.Rcheck Warnings: 1