Package: RiboProfiling Version: 1.36.0 Command: /home/biocbuild/R/R/bin/R CMD build --keep-empty-dirs --no-resave-data RiboProfiling StartedAt: 2025-02-04 02:16:05 -0000 (Tue, 04 Feb 2025) EndedAt: 2025-02-04 02:19:54 -0000 (Tue, 04 Feb 2025) EllapsedTime: 229.2 seconds RetCode: 0 Status: OK PackageFile: RiboProfiling_1.36.0.tar.gz PackageFileSize: 4.489 MiB