Package: RiboProfiling Version: 1.36.0 Command: /home/biocbuild/R/R/bin/R CMD INSTALL RiboProfiling StartedAt: 2025-02-03 20:59:43 -0000 (Mon, 03 Feb 2025) EndedAt: 2025-02-03 21:00:45 -0000 (Mon, 03 Feb 2025) EllapsedTime: 62.0 seconds RetCode: 0 Status: OK