Package: Rmagpie Version: 1.62.0 Command: /Library/Frameworks/R.framework/Resources/bin/R CMD INSTALL Rmagpie StartedAt: 2024-11-08 15:43:09 -0500 (Fri, 08 Nov 2024) EndedAt: 2024-11-08 15:43:14 -0500 (Fri, 08 Nov 2024) EllapsedTime: 4.5 seconds RetCode: 0 Status: OK