Package: Rmagpie Version: 1.62.0 Command: /home/biocbuild/bbs-3.20-bioc/R/bin/R CMD check --install=check:Rmagpie.install-out.txt --library=/home/biocbuild/bbs-3.20-bioc/R/site-library --timings Rmagpie_1.62.0.tar.gz StartedAt: 2025-02-04 01:50:26 -0500 (Tue, 04 Feb 2025) EndedAt: 2025-02-04 01:51:56 -0500 (Tue, 04 Feb 2025) EllapsedTime: 89.1 seconds RetCode: 0 Status: OK CheckDir: Rmagpie.Rcheck Warnings: 0