Package: Rmagpie Version: 1.62.0 Command: rm -rf Rmagpie.buildbin-libdir && mkdir Rmagpie.buildbin-libdir && F:\biocbuild\bbs-3.20-bioc\R\bin\R.exe CMD INSTALL --build --library=Rmagpie.buildbin-libdir Rmagpie_1.62.0.tar.gz StartedAt: 2025-02-04 09:21:46 -0500 (Tue, 04 Feb 2025) EndedAt: 2025-02-04 09:22:44 -0500 (Tue, 04 Feb 2025) EllapsedTime: 58.1 seconds RetCode: 0 Status: OK PackageFile: Rmagpie_1.62.0.zip PackageFileSize: 690.3 KiB