Package: Rmagpie Version: 1.62.0 Command: /home/biocbuild/R/R/bin/R CMD build --keep-empty-dirs --no-resave-data Rmagpie StartedAt: 2025-02-04 02:19:17 -0000 (Tue, 04 Feb 2025) EndedAt: 2025-02-04 02:20:07 -0000 (Tue, 04 Feb 2025) EllapsedTime: 50.1 seconds RetCode: 0 Status: OK PackageFile: Rmagpie_1.62.0.tar.gz PackageFileSize: 465 KiB