Package: Rmmquant Version: 1.24.0 Maintainer: Zytnicki Matthias MaintainerEmail: matthias.zytnicki at inra.fr git_url: https://git.bioconductor.org/packages/Rmmquant git_branch: RELEASE_3_20 git_last_commit: d9dd5c2 git_last_commit_date: 2024-10-29 10:29:14 -0500 (Tue, 29 Oct 2024)