Package: Rmmquant Version: 1.24.0 Command: /Library/Frameworks/R.framework/Resources/bin/R CMD check --install=check:Rmmquant.install-out.txt --library=/Library/Frameworks/R.framework/Resources/library --no-vignettes --timings Rmmquant_1.24.0.tar.gz StartedAt: 2025-02-04 09:02:38 -0500 (Tue, 04 Feb 2025) EndedAt: 2025-02-04 09:12:39 -0500 (Tue, 04 Feb 2025) EllapsedTime: 601.6 seconds RetCode: 0 Status: OK CheckDir: Rmmquant.Rcheck Warnings: 0