Package: Rmmquant Version: 1.24.0 Command: /home/biocbuild/R/R/bin/R CMD build --keep-empty-dirs --no-resave-data Rmmquant StartedAt: 2025-02-04 02:20:06 -0000 (Tue, 04 Feb 2025) EndedAt: 2025-02-04 02:21:54 -0000 (Tue, 04 Feb 2025) EllapsedTime: 107.2 seconds RetCode: 0 Status: OK PackageFile: Rmmquant_1.24.0.tar.gz PackageFileSize: 45.8 KiB