Package: Rmmquant Version: 1.24.0 Command: /home/biocbuild/R/R/bin/R CMD INSTALL Rmmquant StartedAt: 2025-02-03 21:02:08 -0000 (Mon, 03 Feb 2025) EndedAt: 2025-02-03 21:03:25 -0000 (Mon, 03 Feb 2025) EllapsedTime: 77.4 seconds RetCode: 0 Status: OK