Package: RnBeads Version: 2.24.0 Command: rm -rf RnBeads.buildbin-libdir && mkdir RnBeads.buildbin-libdir && /Users/biocbuild/BBS/utils/build-universal.sh RnBeads_2.24.0.tar.gz /Library/Frameworks/R.framework/Resources/bin/R RnBeads.buildbin-libdir StartedAt: 2025-02-05 17:31:37 -0500 (Wed, 05 Feb 2025) EndedAt: 2025-02-05 17:33:18 -0500 (Wed, 05 Feb 2025) EllapsedTime: 100.6 seconds RetCode: 0 Status: OK PackageFile: RnBeads_2.24.0.tgz PackageFileSize: 7.9 MiB