Package: RnBeads Version: 2.24.0 Command: /Library/Frameworks/R.framework/Resources/bin/R CMD build --keep-empty-dirs --no-resave-data RnBeads StartedAt: 2025-02-04 06:55:11 -0500 (Tue, 04 Feb 2025) EndedAt: 2025-02-04 06:58:12 -0500 (Tue, 04 Feb 2025) EllapsedTime: 181.0 seconds RetCode: 0 Status: OK PackageFile: RnBeads_2.24.0.tar.gz PackageFileSize: 7.564 MiB