Package: RnBeads Version: 2.24.0 Command: /Library/Frameworks/R.framework/Resources/bin/R CMD check --install=check:RnBeads.install-out.txt --library=/Library/Frameworks/R.framework/Resources/library --no-vignettes --timings RnBeads_2.24.0.tar.gz StartedAt: 2025-02-05 08:01:44 -0500 (Wed, 05 Feb 2025) EndedAt: 2025-02-05 08:17:23 -0500 (Wed, 05 Feb 2025) EllapsedTime: 939.7 seconds RetCode: 0 Status: OK CheckDir: RnBeads.Rcheck Warnings: 0