Package: RnBeads Version: 2.24.0 Command: /Library/Frameworks/R.framework/Resources/bin/R CMD INSTALL RnBeads StartedAt: 2025-02-03 18:00:24 -0500 (Mon, 03 Feb 2025) EndedAt: 2025-02-03 18:01:56 -0500 (Mon, 03 Feb 2025) EllapsedTime: 92.8 seconds RetCode: 0 Status: OK