Package: RnBeads Version: 2.24.0 Command: /Library/Frameworks/R.framework/Resources/bin/R CMD INSTALL RnBeads StartedAt: 2025-02-03 16:45:59 -0500 (Mon, 03 Feb 2025) EndedAt: 2025-02-03 16:49:05 -0500 (Mon, 03 Feb 2025) EllapsedTime: 186.1 seconds RetCode: 0 Status: OK