Package: RnBeads Version: 2.24.0 Command: /home/biocbuild/bbs-3.20-bioc/R/bin/R CMD build --keep-empty-dirs --no-resave-data --md5 RnBeads StartedAt: 2025-02-03 19:02:56 -0500 (Mon, 03 Feb 2025) EndedAt: 2025-02-03 19:05:03 -0500 (Mon, 03 Feb 2025) EllapsedTime: 127.1 seconds RetCode: 0 Status: OK PackageFile: RnBeads_2.24.0.tar.gz PackageFileSize: 7.581 MiB