Package: RnBeads Version: 2.24.0 Command: /home/biocbuild/bbs-3.20-bioc/R/bin/R CMD check --install=check:RnBeads.install-out.txt --library=/home/biocbuild/bbs-3.20-bioc/R/site-library --timings RnBeads_2.24.0.tar.gz StartedAt: 2025-02-04 01:54:33 -0500 (Tue, 04 Feb 2025) EndedAt: 2025-02-04 02:05:21 -0500 (Tue, 04 Feb 2025) EllapsedTime: 648.7 seconds RetCode: 0 Status: OK CheckDir: RnBeads.Rcheck Warnings: 0