Package: RnBeads Version: 2.24.0 Command: rm -rf RnBeads.buildbin-libdir && mkdir RnBeads.buildbin-libdir && F:\biocbuild\bbs-3.20-bioc\R\bin\R.exe CMD INSTALL --build --library=RnBeads.buildbin-libdir RnBeads_2.24.0.tar.gz StartedAt: 2025-02-11 09:20:22 -0500 (Tue, 11 Feb 2025) EndedAt: 2025-02-11 09:25:00 -0500 (Tue, 11 Feb 2025) EllapsedTime: 278.4 seconds RetCode: 0 Status: OK PackageFile: RnBeads_2.24.0.zip PackageFileSize: 7.425 MiB