Package: RnBeads Version: 2.24.0 Command: /home/biocbuild/R/R/bin/R CMD check --install=check:RnBeads.install-out.txt --library=/home/biocbuild/R/R/site-library --no-vignettes --timings RnBeads_2.24.0.tar.gz StartedAt: 2025-02-04 10:32:38 -0000 (Tue, 04 Feb 2025) EndedAt: 2025-02-04 10:45:09 -0000 (Tue, 04 Feb 2025) EllapsedTime: 751.3 seconds RetCode: 0 Status: OK CheckDir: RnBeads.Rcheck Warnings: 0