Package: RnBeads Version: 2.24.0 Command: /home/biocbuild/R/R/bin/R CMD INSTALL RnBeads StartedAt: 2025-02-03 21:21:28 -0000 (Mon, 03 Feb 2025) EndedAt: 2025-02-03 21:23:15 -0000 (Mon, 03 Feb 2025) EllapsedTime: 106.9 seconds RetCode: 0 Status: OK