Package: Rnits Version: 1.40.0 Command: /Library/Frameworks/R.framework/Resources/bin/R CMD check --install=check:Rnits.install-out.txt --library=/Library/Frameworks/R.framework/Resources/library --no-vignettes --timings Rnits_1.40.0.tar.gz StartedAt: 2025-02-04 09:10:34 -0500 (Tue, 04 Feb 2025) EndedAt: 2025-02-04 09:12:59 -0500 (Tue, 04 Feb 2025) EllapsedTime: 145.7 seconds RetCode: 0 Status: WARNINGS CheckDir: Rnits.Rcheck Warnings: 1