Package: Rnits Version: 1.40.0 Command: /Library/Frameworks/R.framework/Resources/bin/R CMD INSTALL Rnits StartedAt: 2025-02-03 15:31:12 -0500 (Mon, 03 Feb 2025) EndedAt: 2025-02-03 15:31:33 -0500 (Mon, 03 Feb 2025) EllapsedTime: 20.6 seconds RetCode: 0 Status: OK