Package: Rnits Version: 1.40.0 Command: chmod a+r Rnits -R && F:\biocbuild\bbs-3.20-bioc\R\bin\R.exe CMD build --keep-empty-dirs --no-resave-data Rnits StartedAt: 2025-02-03 21:44:37 -0500 (Mon, 03 Feb 2025) EndedAt: 2025-02-03 21:46:37 -0500 (Mon, 03 Feb 2025) EllapsedTime: 119.2 seconds RetCode: 0 Status: OK PackageFile: Rnits_1.40.0.tar.gz PackageFileSize: 655.9 KiB