Package: Rnits Version: 1.40.0 Command: F:\biocbuild\bbs-3.20-bioc\R\bin\R.exe CMD check --no-multiarch --install=check:Rnits.install-out.txt --library=F:\biocbuild\bbs-3.20-bioc\R\library --no-vignettes --timings Rnits_1.40.0.tar.gz StartedAt: 2025-02-04 05:40:30 -0500 (Tue, 04 Feb 2025) EndedAt: 2025-02-04 05:41:46 -0500 (Tue, 04 Feb 2025) EllapsedTime: 76.3 seconds RetCode: 0 Status: WARNINGS CheckDir: Rnits.Rcheck Warnings: 1