Package: Rnits Version: 1.40.0 Command: F:\biocbuild\bbs-3.20-bioc\R\bin\R.exe CMD INSTALL Rnits StartedAt: 2025-02-03 15:46:39 -0500 (Mon, 03 Feb 2025) EndedAt: 2025-02-03 15:47:10 -0500 (Mon, 03 Feb 2025) EllapsedTime: 30.9 seconds RetCode: 0 Status: OK