Package: Rnits Version: 1.40.0 Command: /home/biocbuild/R/R/bin/R CMD build --keep-empty-dirs --no-resave-data Rnits StartedAt: 2025-02-04 02:24:03 -0000 (Tue, 04 Feb 2025) EndedAt: 2025-02-04 02:25:51 -0000 (Tue, 04 Feb 2025) EllapsedTime: 108.2 seconds RetCode: 0 Status: OK PackageFile: Rnits_1.40.0.tar.gz PackageFileSize: 641.4 KiB