Package: Rqc
Version: 1.40.0
Command: /Library/Frameworks/R.framework/Resources/bin/R CMD build --keep-empty-dirs --no-resave-data Rqc
StartedAt: 2024-11-08 18:53:15 -0500 (Fri, 08 Nov 2024)
EndedAt: 2024-11-08 18:53:51 -0500 (Fri, 08 Nov 2024)
EllapsedTime: 35.4 seconds
RetCode: 0
Status: OK
PackageFile: Rqc_1.40.0.tar.gz
PackageFileSize: 1.31 <A href="http://en.wikipedia.org/wiki/MiB" target="_blank">MiB</A>