Package: Rqc
Version: 1.40.0
Command: rm -rf Rqc.buildbin-libdir && mkdir Rqc.buildbin-libdir && /Users/biocbuild/BBS/utils/build-universal.sh Rqc_1.40.0.tar.gz /Library/Frameworks/R.framework/Resources/bin/R Rqc.buildbin-libdir
StartedAt: 2025-02-18 12:56:25 -0500 (Tue, 18 Feb 2025)
EndedAt: 2025-02-18 12:58:25 -0500 (Tue, 18 Feb 2025)
EllapsedTime: 120.5 seconds
RetCode: 0
Status: OK
PackageFile: Rqc_1.40.0.tgz
PackageFileSize: 1.441 <A href="http://en.wikipedia.org/wiki/MiB" target="_blank">MiB</A>