Package: Rqc Version: 1.40.0 Command: /home/biocbuild/bbs-3.20-bioc/R/bin/R CMD INSTALL Rqc StartedAt: 2025-02-03 15:42:01 -0500 (Mon, 03 Feb 2025) EndedAt: 2025-02-03 15:43:00 -0500 (Mon, 03 Feb 2025) EllapsedTime: 59.1 seconds RetCode: 0 Status: OK