Package: Rqc Version: 1.40.0 Command: /home/biocbuild/R/R/bin/R CMD build --keep-empty-dirs --no-resave-data Rqc StartedAt: 2025-02-04 02:26:41 -0000 (Tue, 04 Feb 2025) EndedAt: 2025-02-04 02:28:49 -0000 (Tue, 04 Feb 2025) EllapsedTime: 128.2 seconds RetCode: 0 Status: OK PackageFile: Rqc_1.40.0.tar.gz PackageFileSize: 813.3 KiB