Package: Rsamtools
Version: 2.22.0
Command: /Library/Frameworks/R.framework/Resources/bin/R CMD check --install=check:Rsamtools.install-out.txt --library=/Library/Frameworks/R.framework/Resources/library --no-vignettes --timings Rsamtools_2.22.0.tar.gz
StartedAt: 2024-11-20 02:06:38 -0500 (Wed, 20 Nov 2024)
EndedAt: 2024-11-20 02:12:20 -0500 (Wed, 20 Nov 2024)
EllapsedTime: 342.8 seconds
RetCode: 0
Status: WARNINGS
CheckDir: Rsamtools.Rcheck
Warnings: 2