Package: Rsamtools Version: 2.22.0 Command: /Library/Frameworks/R.framework/Resources/bin/R CMD build --keep-empty-dirs --no-resave-data Rsamtools StartedAt: 2025-02-03 21:51:38 -0500 (Mon, 03 Feb 2025) EndedAt: 2025-02-03 21:53:58 -0500 (Mon, 03 Feb 2025) EllapsedTime: 139.8 seconds RetCode: 0 Status: OK PackageFile: Rsamtools_2.22.0.tar.gz PackageFileSize: 2.783 MiB