Package: Rsamtools Version: 2.22.0 Command: /Library/Frameworks/R.framework/Resources/bin/R CMD check --install=check:Rsamtools.install-out.txt --library=/Library/Frameworks/R.framework/Resources/library --no-vignettes --timings Rsamtools_2.22.0.tar.gz StartedAt: 2025-02-04 09:17:39 -0500 (Tue, 04 Feb 2025) EndedAt: 2025-02-04 09:23:33 -0500 (Tue, 04 Feb 2025) EllapsedTime: 353.2 seconds RetCode: 0 Status: WARNINGS CheckDir: Rsamtools.Rcheck Warnings: 2