Package: Rsamtools Version: 2.22.0 Command: /home/biocbuild/R/R/bin/R CMD INSTALL Rsamtools StartedAt: 2025-02-03 20:36:14 -0000 (Mon, 03 Feb 2025) EndedAt: 2025-02-03 20:37:07 -0000 (Mon, 03 Feb 2025) EllapsedTime: 53.8 seconds RetCode: 0 Status: OK