Package: Rsubread Version: 2.20.0 Command: /Library/Frameworks/R.framework/Resources/bin/R CMD build --keep-empty-dirs --no-resave-data Rsubread StartedAt: 2025-02-04 07:02:50 -0500 (Tue, 04 Feb 2025) EndedAt: 2025-02-04 07:17:00 -0500 (Tue, 04 Feb 2025) EllapsedTime: 850.5 seconds RetCode: 0 Status: OK PackageFile: Rsubread_2.20.0.tar.gz PackageFileSize: 12.92 MiB