Package: Rsubread Version: 2.20.0 Command: /home/biocbuild/bbs-3.20-bioc/R/bin/R CMD build --keep-empty-dirs --no-resave-data --md5 Rsubread StartedAt: 2025-02-17 18:51:12 -0500 (Mon, 17 Feb 2025) EndedAt: 2025-02-17 18:59:36 -0500 (Mon, 17 Feb 2025) EllapsedTime: 503.6 seconds RetCode: 0 Status: OK PackageFile: Rsubread_2.20.0.tar.gz PackageFileSize: 12.94 <A href="http://en.wikipedia.org/wiki/MiB" target="_blank">MiB</A>