Package: Rsubread Version: 2.20.0 Command: /home/biocbuild/bbs-3.20-bioc/R/bin/R CMD INSTALL Rsubread StartedAt: 2025-02-03 15:13:47 -0500 (Mon, 03 Feb 2025) EndedAt: 2025-02-03 15:14:36 -0500 (Mon, 03 Feb 2025) EllapsedTime: 49.2 seconds RetCode: 0 Status: OK