Package: Rsubread Version: 2.20.0 Command: rm -rf Rsubread.buildbin-libdir && mkdir Rsubread.buildbin-libdir && F:\biocbuild\bbs-3.20-bioc\R\bin\R.exe CMD INSTALL --build --library=Rsubread.buildbin-libdir Rsubread_2.20.0.tar.gz StartedAt: 2025-02-04 09:23:51 -0500 (Tue, 04 Feb 2025) EndedAt: 2025-02-04 09:25:34 -0500 (Tue, 04 Feb 2025) EllapsedTime: 102.3 seconds RetCode: 0 Status: OK PackageFile: Rsubread_2.20.0.zip PackageFileSize: 13.04 MiB