Package: Rsubread Version: 2.20.0 Command: F:\biocbuild\bbs-3.20-bioc\R\bin\R.exe CMD check --no-multiarch --install=check:Rsubread.install-out.txt --library=F:\biocbuild\bbs-3.20-bioc\R\library --no-vignettes --timings Rsubread_2.20.0.tar.gz StartedAt: 2025-02-04 05:45:59 -0500 (Tue, 04 Feb 2025) EndedAt: 2025-02-04 05:49:56 -0500 (Tue, 04 Feb 2025) EllapsedTime: 237.4 seconds RetCode: 0 Status: OK CheckDir: Rsubread.Rcheck Warnings: 0