Package: Rsubread Version: 2.20.0 Command: F:\biocbuild\bbs-3.20-bioc\R\bin\R.exe CMD INSTALL Rsubread StartedAt: 2025-02-03 15:32:20 -0500 (Mon, 03 Feb 2025) EndedAt: 2025-02-03 15:34:01 -0500 (Mon, 03 Feb 2025) EllapsedTime: 100.2 seconds RetCode: 0 Status: OK