Package: S4Arrays
Version: 1.6.0
Command: /Library/Frameworks/R.framework/Resources/bin/R CMD INSTALL S4Arrays
StartedAt: 2025-02-17 15:11:14 -0500 (Mon, 17 Feb 2025)
EndedAt: 2025-02-17 15:11:32 -0500 (Mon, 17 Feb 2025)
EllapsedTime: 18.6 seconds
RetCode: 0
Status: OK