Package: S4Arrays Version: 1.6.0 Command: /Library/Frameworks/R.framework/Resources/bin/R CMD check --install=check:S4Arrays.install-out.txt --library=/Library/Frameworks/R.framework/Resources/library --no-vignettes --timings S4Arrays_1.6.0.tar.gz StartedAt: 2025-02-04 09:23:35 -0500 (Tue, 04 Feb 2025) EndedAt: 2025-02-04 09:28:42 -0500 (Tue, 04 Feb 2025) EllapsedTime: 306.8 seconds RetCode: 0 Status: OK CheckDir: S4Arrays.Rcheck Warnings: 0