Package: S4Arrays Version: 1.6.0 Command: /home/biocbuild/bbs-3.20-bioc/R/bin/R CMD build --keep-empty-dirs --no-resave-data --md5 S4Arrays StartedAt: 2025-02-03 19:06:42 -0500 (Mon, 03 Feb 2025) EndedAt: 2025-02-03 19:07:01 -0500 (Mon, 03 Feb 2025) EllapsedTime: 19.1 seconds RetCode: 0 Status: OK PackageFile: S4Arrays_1.6.0.tar.gz PackageFileSize: 281.7 KiB