Package: S4Arrays Version: 1.6.0 Command: /home/biocbuild/bbs-3.20-bioc/R/bin/R CMD INSTALL S4Arrays StartedAt: 2025-02-03 15:16:49 -0500 (Mon, 03 Feb 2025) EndedAt: 2025-02-03 15:17:13 -0500 (Mon, 03 Feb 2025) EllapsedTime: 23.4 seconds RetCode: 0 Status: OK