Package: S4Arrays Version: 1.6.0 Command: chmod a+r S4Arrays -R && F:\biocbuild\bbs-3.20-bioc\R\bin\R.exe CMD build --keep-empty-dirs --no-resave-data S4Arrays StartedAt: 2025-02-03 21:50:39 -0500 (Mon, 03 Feb 2025) EndedAt: 2025-02-03 21:51:51 -0500 (Mon, 03 Feb 2025) EllapsedTime: 71.9 seconds RetCode: 0 Status: OK PackageFile: S4Arrays_1.6.0.tar.gz PackageFileSize: 279.8 KiB