Package: S4Vectors
Version: 0.44.0
Command: /Library/Frameworks/R.framework/Resources/bin/R CMD build --keep-empty-dirs --no-resave-data S4Vectors
StartedAt: 2024-11-19 18:28:38 -0500 (Tue, 19 Nov 2024)
EndedAt: 2024-11-19 18:29:51 -0500 (Tue, 19 Nov 2024)
EllapsedTime: 72.9 seconds
RetCode: 0
Status: OK
PackageFile: S4Vectors_0.44.0.tar.gz
PackageFileSize: 1.001 <A href="http://en.wikipedia.org/wiki/MiB" target="_blank">MiB</A>